BEGIN:VCALENDAR
VERSION:2.0
PRODID:-//wp-events-plugin.com//7.2.3.1//EN
TZID:America/New_York
X-WR-TIMEZONE:America/New_York
BEGIN:VEVENT
UID:279@uccn.org
DTSTART;TZID=America/New_York:20240729T180000
DTEND;TZID=America/New_York:20240729T200000
DTSTAMP:20240729T121916Z
URL:https://uccn.org/event/boston-rally-for-justice-remembering-olenivka/
SUMMARY:BOSTON Rally for Justice: REMEMBERING OLENIVKA
DESCRIPTION:Приєднуйтеся до вшанування пам'ят
 і жертв російського злочину.\n- В ніч з 28 н
 а 29 липня окупанти підірвали барак в кол
 онії Оленівки з полоненими азовцями.\n- В
 наслідок вибуху загинули 54 захисники Ма
 ріуполя\, ще 130 – зазнали поранень.\nОлені
 вка – це злочин проти людяності\, поруше
 ння всіх можливих правил ведення війни і
  поводження з військовополоненими.
ATTACH;FMTTYPE=image/jpeg:https://uccn.org/wp-content/uploads/2024/07/olen
 ivka.jpeg
CATEGORIES:Rally
LOCATION:Massachusetts State House\, 24 Beacon St\, Boston\, MA\, 02133\, U
 nited States
GEO:42.35876;-71.063803
X-APPLE-STRUCTURED-LOCATION;VALUE=URI;X-ADDRESS=24 Beacon St\, Boston\, MA\
 , 02133\, United States;X-APPLE-RADIUS=100;X-TITLE=Massachusetts State Hou
 se:geo:42.35876,-71.063803
END:VEVENT
BEGIN:VTIMEZONE
TZID:America/New_York
X-LIC-LOCATION:America/New_York
BEGIN:DAYLIGHT
DTSTART:20240310T030000
TZOFFSETFROM:-0500
TZOFFSETTO:-0400
TZNAME:EDT
END:DAYLIGHT
END:VTIMEZONE
END:VCALENDAR