BEGIN:VCALENDAR
VERSION:2.0
PRODID:-//wp-events-plugin.com//7.2.3.1//EN
TZID:America/New_York
X-WR-TIMEZONE:America/New_York
BEGIN:VEVENT
UID:127@uccn.org
DTSTART;TZID=America/New_York:20230824T150000
DTEND;TZID=America/New_York:20230824T180000
DTSTAMP:20230823T010330Z
URL:https://uccn.org/event/unfurling-the-worlds-largest-ukrainian-flag-in-
 boston/
SUMMARY:UNFURLING THE WORLD'S LARGEST UKRAINIAN FLAG IN BOSTON
DESCRIPTION:Dear Ukrainians and friends of Ukraine\,\nPlease mark your cale
 ndars and join us on August 24th for the 32nd anniversary of Ukraine’s I
 ndependence!\nAfter the Flag Raising Ceremony at the Boston City Hall Plaz
 a\, we invite you to join us for the unfurling of the world's largest Ukra
 inian Flag at the Millennium Park in Boston.\nThis flag has been made in U
 kraine and traveled across the world to the United States.\nIt will requir
 e over 150 people to unfurl it - so your presence is very important. This 
 is your chance to touch a part of Ukraine here in Boston.\nMore details to
  follow!\n\n\n\n\n\n\n\n\n\n\n\n\n\n\n\n\nШановні українці 
 та друзі України\,\nПозначайте собі у кал
 ендарях та приєднуйтесь спільно з нами 24
  серпня для відзначення 32-ої річниці Нез
 алежності України!\nПісля церемонії підн
 яття прапора на площі перед Мерією Босто
 на\, запрошуємо вас приєднатися до розго
 ртання найбільшого у світі українського
  прапора в Міленіум парку в Бостоні.\nЦей 
 прапор був пошитий в Україні і подолав д
 овгу дорогу до Сполучених Штатів Америк
 и.\nДля його розгортання знадобиться пон
 ад 150 людей\, тому ваша присутність дуже в
 ажлива. Це ваш шанс доторкнутися до част
 инки України тут\, у Бостоні.\n\n\n\nОновлен
 ня будуть публікуватись у події!\nFacebook even
 t: https://fb.me/e/1l7MhVNZk\n\n
ATTACH;FMTTYPE=image/jpeg:https://uccn.org/wp-content/uploads/2023/07/3592
 58599_264808809500458_3655270141490528026_n-jpeg.webp
CATEGORIES:Community Meetup
LOCATION:Millennium Park\, 300 Gardner St.\, Boston\, MA\, 02132\, United S
 tates
GEO:42.282443;-71.180975
X-APPLE-STRUCTURED-LOCATION;VALUE=URI;X-ADDRESS=300 Gardner St.\, Boston\, 
 MA\, 02132\, United States;X-APPLE-RADIUS=100;X-TITLE=Millennium Park:geo:
 42.282443,-71.180975
END:VEVENT
BEGIN:VTIMEZONE
TZID:America/New_York
X-LIC-LOCATION:America/New_York
BEGIN:DAYLIGHT
DTSTART:20230312T030000
TZOFFSETFROM:-0500
TZOFFSETTO:-0400
TZNAME:EDT
END:DAYLIGHT
END:VTIMEZONE
END:VCALENDAR